BEGIN:VCALENDAR
VERSION:2.0
CALSCALE:GREGORIAN
METHOD:PUBLISH
X-WR-TIMEZONE:Australia/Sydney
BEGIN:VTIMEZONE
TZID:Australia/Sydney
BEGIN:STANDARD
TZNAME:AEST
DTSTART:19700101T000000
TZOFFSETFROM:+1100
TZOFFSETTO:+1000
END:STANDARD
END:VTIMEZONE
BEGIN:VEVENT
DTSTART;TZID=Australia/Sydney:20250214T183000
DTEND;TZID=Australia/Sydney:20250214T203000
DTSTAMP:20260421T185542
UID:303
SUMMARY:2025 Prep Parents Welcome Night
DESCRIPTION:




We warmly invite you to join us for the 2025 Prep Parent Welcome Night in the SAKG. This event offers a wonderful opportunity to connect with fellow prep parents and forge new friendships. A light supper will be served, and we kindly ask that you bring your own drinks (and glasses) to enjoy. We look forward to seeing you there!


SEQUENCE:0
STATUS:CONFIRMED
TRANSP:OPAQUE
END:VEVENT
END:VCALENDAR