BEGIN:VCALENDAR
VERSION:2.0
CALSCALE:GREGORIAN
METHOD:PUBLISH
X-WR-TIMEZONE:Australia/Sydney
BEGIN:VTIMEZONE
TZID:Australia/Sydney
BEGIN:STANDARD
TZNAME:AEST
DTSTART:19700101T000000
TZOFFSETFROM:+1100
TZOFFSETTO:+1000
END:STANDARD
END:VTIMEZONE
BEGIN:VEVENT
DTSTART;TZID=Australia/Sydney:20260303T180000
DTEND;TZID=Australia/Sydney:20260303T193000
DTSTAMP:20260420T190239
UID:420
SUMMARY:Free Cybersafety Parent Information Session
DESCRIPTION:




Please join us for a Free Cybersafety Parent Information Session in the school library on Tuesday 3rd March from 6.00pm - 7.30pm. Book here: https://www.trybooking.com/DJTOZ WANT TO FEEL MORE CONFIDENT SUPPORTING YOUR CHILD ONLINE?ThinkUKnow Australia is an evidence-based education program led by the AustralianFederal Police (AFP) to prevent online child sexual exploitation.What the presentation will cover:- What young people SEE, SAY and DO online- The challenges they may face, as they relate to online child sexual exploitation- How to report, get help and supportThinkUKnow is pro-technology, and incorporates up-to-date research, real case studies,intelligence and examples from reports made to the AFP-led Australian Centre to Counter Child Exploitation.


SEQUENCE:0
STATUS:CONFIRMED
TRANSP:OPAQUE
END:VEVENT
END:VCALENDAR